BEGIN:VCALENDAR
VERSION:2.0
PRODID:-//PARC'S Foundation - ECPv6.15.18//NONSGML v1.0//EN
CALSCALE:GREGORIAN
METHOD:PUBLISH
X-WR-CALNAME:PARC'S Foundation
X-ORIGINAL-URL:https://parcsfoundation.org
X-WR-CALDESC:Events for PARC'S Foundation
REFRESH-INTERVAL;VALUE=DURATION:PT1H
X-Robots-Tag:noindex
X-PUBLISHED-TTL:PT1H
BEGIN:VTIMEZONE
TZID:America/New_York
BEGIN:DAYLIGHT
TZOFFSETFROM:-0500
TZOFFSETTO:-0400
TZNAME:EDT
DTSTART:20240310T070000
END:DAYLIGHT
BEGIN:STANDARD
TZOFFSETFROM:-0400
TZOFFSETTO:-0500
TZNAME:EST
DTSTART:20241103T060000
END:STANDARD
BEGIN:DAYLIGHT
TZOFFSETFROM:-0500
TZOFFSETTO:-0400
TZNAME:EDT
DTSTART:20250309T070000
END:DAYLIGHT
BEGIN:STANDARD
TZOFFSETFROM:-0400
TZOFFSETTO:-0500
TZNAME:EST
DTSTART:20251102T060000
END:STANDARD
BEGIN:DAYLIGHT
TZOFFSETFROM:-0500
TZOFFSETTO:-0400
TZNAME:EDT
DTSTART:20260308T070000
END:DAYLIGHT
BEGIN:STANDARD
TZOFFSETFROM:-0400
TZOFFSETTO:-0500
TZNAME:EST
DTSTART:20261101T060000
END:STANDARD
BEGIN:DAYLIGHT
TZOFFSETFROM:-0500
TZOFFSETTO:-0400
TZNAME:EDT
DTSTART:20270314T070000
END:DAYLIGHT
BEGIN:STANDARD
TZOFFSETFROM:-0400
TZOFFSETTO:-0500
TZNAME:EST
DTSTART:20271107T060000
END:STANDARD
END:VTIMEZONE
BEGIN:VEVENT
DTSTART;TZID=America/New_York:20251028T173000
DTEND;TZID=America/New_York:20251028T200000
DTSTAMP:20260420T201533
CREATED:20251015T192828Z
LAST-MODIFIED:20251015T192828Z
UID:944-1761672600-1761681600@parcsfoundation.org
SUMMARY:Trailblazin 2025
DESCRIPTION:Purpose: Fundraising Initiative for Inclusive Equipment in Seminole County Parks\nLocation: Wekiva Island\nDate: Tuesday October 28th\nTime: 5:30pm\nActivities:\n– Raffle Drawings and Prize Giveaways\n– Pumpkin Carving Contest\n– Boo Basket Donations\n– Costume Prizes \nClick/tap here to RSVP! https://lnkd.in/ggESmCCq
URL:https://parcsfoundation.org/event/trailblazin-2025/
LOCATION:Wekiva Island\, 1014 Miami Springs Drive\, Longwood\, FL\, 32750\, United States
ATTACH;FMTTYPE=image/jpeg:https://parcsfoundation.org/wp-content/uploads/2025/10/unnamed.jpg
END:VEVENT
BEGIN:VEVENT
DTSTART;VALUE=DATE:20261114
DTEND;VALUE=DATE:20261115
DTSTAMP:20260420T201533
CREATED:20251015T193028Z
LAST-MODIFIED:20260211T211849Z
UID:947-1794614400-1794700799@parcsfoundation.org
SUMMARY:Guns & Hoses Fundraiser
DESCRIPTION:Join us for police versus fire in an assortment of fun\, competitive challenges!
URL:https://parcsfoundation.org/event/guns-hoses-fundraiser/
LOCATION:Reiter Park\, 311 W Warren Ave\, Longwood\, Florida\, 32750
END:VEVENT
END:VCALENDAR